Package: BiocBook Version: 1.4.0 Command: /Library/Frameworks/R.framework/Resources/bin/R CMD INSTALL BiocBook StartedAt: 2025-01-30 16:37:52 -0500 (Thu, 30 Jan 2025) EndedAt: 2025-01-30 16:37:59 -0500 (Thu, 30 Jan 2025) EllapsedTime: 7.0 seconds RetCode: 0 Status: OK