Package: BiocBook Version: 1.4.0 Command: /Library/Frameworks/R.framework/Resources/bin/R CMD build --keep-empty-dirs --no-resave-data BiocBook StartedAt: 2025-02-03 17:21:55 -0500 (Mon, 03 Feb 2025) EndedAt: 2025-02-03 17:22:55 -0500 (Mon, 03 Feb 2025) EllapsedTime: 59.7 seconds RetCode: 0 Status: OK PackageFile: BiocBook_1.4.0.tar.gz PackageFileSize: 902.8 KiB