Package: BiocBook Version: 1.4.0 Command: /Library/Frameworks/R.framework/Resources/bin/R CMD check --install=check:BiocBook.install-out.txt --library=/Library/Frameworks/R.framework/Resources/library --no-vignettes --timings BiocBook_1.4.0.tar.gz StartedAt: 2025-02-04 00:15:41 -0500 (Tue, 04 Feb 2025) EndedAt: 2025-02-04 00:19:12 -0500 (Tue, 04 Feb 2025) EllapsedTime: 211.9 seconds RetCode: 0 Status: OK CheckDir: BiocBook.Rcheck Warnings: 0