Package: BiocBook Version: 1.4.0 Command: /Library/Frameworks/R.framework/Resources/bin/R CMD INSTALL BiocBook StartedAt: 2025-02-03 16:00:20 -0500 (Mon, 03 Feb 2025) EndedAt: 2025-02-03 16:00:34 -0500 (Mon, 03 Feb 2025) EllapsedTime: 14.0 seconds RetCode: 0 Status: OK