Package: BiocFHIR Version: 1.8.0 Command: /home/biocbuild/R/R/bin/R CMD build --keep-empty-dirs --no-resave-data BiocFHIR StartedAt: 2024-11-19 23:10:21 -0000 (Tue, 19 Nov 2024) EndedAt: 2024-11-19 23:11:07 -0000 (Tue, 19 Nov 2024) EllapsedTime: 46.1 seconds RetCode: 0 Status: OK PackageFile: BiocFHIR_1.8.0.tar.gz PackageFileSize: 4.597 MiB