Package: BiocFHIR Version: 1.8.0 Command: rm -rf BiocFHIR.buildbin-libdir && mkdir BiocFHIR.buildbin-libdir && /Users/biocbuild/BBS/utils/build-universal.sh BiocFHIR_1.8.0.tar.gz /Library/Frameworks/R.framework/Resources/bin/R BiocFHIR.buildbin-libdir StartedAt: 2025-02-04 12:32:04 -0500 (Tue, 04 Feb 2025) EndedAt: 2025-02-04 12:32:21 -0500 (Tue, 04 Feb 2025) EllapsedTime: 16.9 seconds RetCode: 0 Status: OK PackageFile: BiocFHIR_1.8.0.tgz PackageFileSize: 4.294 MiB