Package: BiocFHIR Version: 1.8.0 Command: /Library/Frameworks/R.framework/Resources/bin/R CMD build --keep-empty-dirs --no-resave-data BiocFHIR StartedAt: 2025-02-10 17:15:09 -0500 (Mon, 10 Feb 2025) EndedAt: 2025-02-10 17:16:45 -0500 (Mon, 10 Feb 2025) EllapsedTime: 95.8 seconds RetCode: 0 Status: OK PackageFile: BiocFHIR_1.8.0.tar.gz PackageFileSize: 4.29 MiB