Package: BiocFHIR Version: 1.8.0 Command: /home/biocbuild/bbs-3.20-bioc/R/bin/R CMD check --install=check:BiocFHIR.install-out.txt --library=/home/biocbuild/bbs-3.20-bioc/R/site-library --timings BiocFHIR_1.8.0.tar.gz StartedAt: 2025-02-03 20:24:23 -0500 (Mon, 03 Feb 2025) EndedAt: 2025-02-03 20:26:14 -0500 (Mon, 03 Feb 2025) EllapsedTime: 111.2 seconds RetCode: 0 Status: OK CheckDir: BiocFHIR.Rcheck Warnings: 0