Package: BiocFHIR Version: 1.8.0 Command: rm -rf BiocFHIR.buildbin-libdir && mkdir BiocFHIR.buildbin-libdir && F:\biocbuild\bbs-3.20-bioc\R\bin\R.exe CMD INSTALL --build --library=BiocFHIR.buildbin-libdir BiocFHIR_1.8.0.tar.gz StartedAt: 2025-01-31 08:13:32 -0500 (Fri, 31 Jan 2025) EndedAt: 2025-01-31 08:14:04 -0500 (Fri, 31 Jan 2025) EllapsedTime: 32.4 seconds RetCode: 0 Status: OK PackageFile: BiocFHIR_1.8.0.zip PackageFileSize: 4.295 MiB