Package: BiocFHIR Version: 1.8.0 Command: F:\biocbuild\bbs-3.20-bioc\R\bin\R.exe CMD check --no-multiarch --install=check:BiocFHIR.install-out.txt --library=F:\biocbuild\bbs-3.20-bioc\R\library --no-vignettes --timings BiocFHIR_1.8.0.tar.gz StartedAt: 2025-02-03 23:31:31 -0500 (Mon, 03 Feb 2025) EndedAt: 2025-02-03 23:33:09 -0500 (Mon, 03 Feb 2025) EllapsedTime: 98.5 seconds RetCode: 0 Status: OK CheckDir: BiocFHIR.Rcheck Warnings: 0