Package: BiocFHIR Version: 1.8.0 Command: /home/biocbuild/R/R/bin/R CMD INSTALL BiocFHIR StartedAt: 2025-02-03 20:54:13 -0000 (Mon, 03 Feb 2025) EndedAt: 2025-02-03 20:54:20 -0000 (Mon, 03 Feb 2025) EllapsedTime: 6.8 seconds RetCode: 0 Status: OK