Package: BiocGenerics Version: 0.52.0 Command: /Library/Frameworks/R.framework/Resources/bin/R CMD build --keep-empty-dirs --no-resave-data BiocGenerics StartedAt: 2025-02-10 17:15:25 -0500 (Mon, 10 Feb 2025) EndedAt: 2025-02-10 17:15:27 -0500 (Mon, 10 Feb 2025) EllapsedTime: 2.3 seconds RetCode: 0 Status: OK PackageFile: BiocGenerics_0.52.0.tar.gz PackageFileSize: 51.15 KiB