Package: BiocGenerics Version: 0.52.0 Command: /Library/Frameworks/R.framework/Resources/bin/R CMD check --install=check:BiocGenerics.install-out.txt --library=/Library/Frameworks/R.framework/Resources/library --no-vignettes --timings BiocGenerics_0.52.0.tar.gz StartedAt: 2025-02-04 00:16:42 -0500 (Tue, 04 Feb 2025) EndedAt: 2025-02-04 00:18:46 -0500 (Tue, 04 Feb 2025) EllapsedTime: 124.7 seconds RetCode: 0 Status: WARNINGS CheckDir: BiocGenerics.Rcheck Warnings: 1