Package: BiocGenerics Version: 0.52.0 Command: F:\biocbuild\bbs-3.20-bioc\R\bin\R.exe CMD INSTALL BiocGenerics StartedAt: 2025-02-03 15:31:25 -0500 (Mon, 03 Feb 2025) EndedAt: 2025-02-03 15:33:51 -0500 (Mon, 03 Feb 2025) EllapsedTime: 146.8 seconds RetCode: 0 Status: OK