Package: BiocGenerics Version: 0.52.0 Command: /home/biocbuild/R/R/bin/R CMD check --install=check:BiocGenerics.install-out.txt --library=/home/biocbuild/R/R/site-library --no-vignettes --timings BiocGenerics_0.52.0.tar.gz StartedAt: 2025-02-04 04:48:45 -0000 (Tue, 04 Feb 2025) EndedAt: 2025-02-04 04:50:06 -0000 (Tue, 04 Feb 2025) EllapsedTime: 80.2 seconds RetCode: 0 Status: WARNINGS CheckDir: BiocGenerics.Rcheck Warnings: 1