Package: BiocGenerics Version: 0.52.0 Command: /home/biocbuild/R/R/bin/R CMD INSTALL BiocGenerics StartedAt: 2025-02-03 20:21:22 -0000 (Mon, 03 Feb 2025) EndedAt: 2025-02-03 20:21:35 -0000 (Mon, 03 Feb 2025) EllapsedTime: 12.1 seconds RetCode: 0 Status: OK