Package: BiocHail Version: 1.6.1 Maintainer: Vincent Carey MaintainerEmail: stvjc at channing.harvard.edu git_url: https://git.bioconductor.org/packages/BiocHail git_branch: RELEASE_3_20 git_last_commit: 60e22ec git_last_commit_date: 2025-01-13 14:38:17 -0500 (Mon, 13 Jan 2025)