Package: BiocHail Version: 1.6.1 Command: /home/biocbuild/bbs-3.20-bioc/R/bin/R CMD check --install=check:BiocHail.install-out.txt --library=/home/biocbuild/bbs-3.20-bioc/R/site-library --timings BiocHail_1.6.1.tar.gz StartedAt: 2025-02-03 20:24:46 -0500 (Mon, 03 Feb 2025) EndedAt: 2025-02-03 20:32:20 -0500 (Mon, 03 Feb 2025) EllapsedTime: 453.7 seconds RetCode: 1 Status: ERROR CheckDir: BiocHail.Rcheck Warnings: NA