Package: BiocHail Version: 1.6.1 Command: /home/biocbuild/bbs-3.20-bioc/R/bin/R CMD INSTALL BiocHail StartedAt: 2025-02-10 15:23:16 -0500 (Mon, 10 Feb 2025) EndedAt: 2025-02-10 15:23:24 -0500 (Mon, 10 Feb 2025) EllapsedTime: 8.3 seconds RetCode: 0 Status: OK