Package: BiocHail Version: 1.6.1 Command: /home/biocbuild/R/R/bin/R CMD build --keep-empty-dirs --no-resave-data BiocHail StartedAt: 2025-02-03 22:01:03 -0000 (Mon, 03 Feb 2025) EndedAt: 2025-02-03 22:01:44 -0000 (Mon, 03 Feb 2025) EllapsedTime: 41.0 seconds RetCode: 0 Status: OK PackageFile: BiocHail_1.6.1.tar.gz PackageFileSize: 2.643 MiB