Package: BiocHail Version: 1.6.1 Command: /home/biocbuild/R/R/bin/R CMD check --install=check:BiocHail.install-out.txt --library=/home/biocbuild/R/R/site-library --no-vignettes --timings BiocHail_1.6.1.tar.gz StartedAt: 2025-02-04 04:48:59 -0000 (Tue, 04 Feb 2025) EndedAt: 2025-02-04 05:28:59 -0000 (Tue, 04 Feb 2025) EllapsedTime: 2400.3 seconds RetCode: None Status: TIMEOUT CheckDir: BiocHail.Rcheck Warnings: NA