Package: BiocHail Version: 1.6.1 Command: /home/biocbuild/R/R/bin/R CMD INSTALL BiocHail StartedAt: 2025-02-03 20:35:12 -0000 (Mon, 03 Feb 2025) EndedAt: 2025-02-03 20:35:22 -0000 (Mon, 03 Feb 2025) EllapsedTime: 10.5 seconds RetCode: 0 Status: OK