Package: BiocHubsShiny Version: 1.6.2 Command: /Library/Frameworks/R.framework/Resources/bin/R CMD check --install=check:BiocHubsShiny.install-out.txt --library=/Library/Frameworks/R.framework/Resources/library --no-vignettes --timings BiocHubsShiny_1.6.2.tar.gz StartedAt: 2025-02-04 00:16:51 -0500 (Tue, 04 Feb 2025) EndedAt: 2025-02-04 00:21:50 -0500 (Tue, 04 Feb 2025) EllapsedTime: 298.2 seconds RetCode: 0 Status: OK CheckDir: BiocHubsShiny.Rcheck Warnings: 0