Package: BiocHubsShiny Version: 1.6.2 Command: /home/biocbuild/bbs-3.20-bioc/R/bin/R CMD check --install=check:BiocHubsShiny.install-out.txt --library=/home/biocbuild/bbs-3.20-bioc/R/site-library --timings BiocHubsShiny_1.6.2.tar.gz StartedAt: 2025-02-03 20:24:50 -0500 (Mon, 03 Feb 2025) EndedAt: 2025-02-03 20:27:05 -0500 (Mon, 03 Feb 2025) EllapsedTime: 134.2 seconds RetCode: 0 Status: OK CheckDir: BiocHubsShiny.Rcheck Warnings: 0