Package: BiocHubsShiny Version: 1.6.2 Command: rm -rf BiocHubsShiny.buildbin-libdir && mkdir BiocHubsShiny.buildbin-libdir && F:\biocbuild\bbs-3.20-bioc\R\bin\R.exe CMD INSTALL --build --library=BiocHubsShiny.buildbin-libdir BiocHubsShiny_1.6.2.tar.gz StartedAt: 2025-02-04 08:03:08 -0500 (Tue, 04 Feb 2025) EndedAt: 2025-02-04 08:03:34 -0500 (Tue, 04 Feb 2025) EllapsedTime: 25.7 seconds RetCode: 0 Status: OK PackageFile: BiocHubsShiny_1.6.2.zip PackageFileSize: 743.1 KiB