Package: BiocHubsShiny Version: 1.6.2 Command: chmod a+r BiocHubsShiny -R && F:\biocbuild\bbs-3.20-bioc\R\bin\R.exe CMD build --keep-empty-dirs --no-resave-data BiocHubsShiny StartedAt: 2025-02-03 17:45:14 -0500 (Mon, 03 Feb 2025) EndedAt: 2025-02-03 17:45:48 -0500 (Mon, 03 Feb 2025) EllapsedTime: 34.0 seconds RetCode: 0 Status: OK PackageFile: BiocHubsShiny_1.6.2.tar.gz PackageFileSize: 1.602 MiB