Package: BiocHubsShiny Version: 1.6.2 Command: F:\biocbuild\bbs-3.20-bioc\R\bin\R.exe CMD check --no-multiarch --install=check:BiocHubsShiny.install-out.txt --library=F:\biocbuild\bbs-3.20-bioc\R\library --no-vignettes --timings BiocHubsShiny_1.6.2.tar.gz StartedAt: 2025-02-03 23:32:29 -0500 (Mon, 03 Feb 2025) EndedAt: 2025-02-03 23:42:28 -0500 (Mon, 03 Feb 2025) EllapsedTime: 599.2 seconds RetCode: 0 Status: OK CheckDir: BiocHubsShiny.Rcheck Warnings: 0