Package: BiocIO Version: 1.16.0 Command: /Library/Frameworks/R.framework/Resources/bin/R CMD build --keep-empty-dirs --no-resave-data BiocIO StartedAt: 2025-02-03 19:28:58 -0500 (Mon, 03 Feb 2025) EndedAt: 2025-02-03 19:29:08 -0500 (Mon, 03 Feb 2025) EllapsedTime: 10.3 seconds RetCode: 0 Status: OK PackageFile: BiocIO_1.16.0.tar.gz PackageFileSize: 226.3 KiB