Package: BiocIO Version: 1.16.0 Command: /Library/Frameworks/R.framework/Resources/bin/R CMD INSTALL BiocIO StartedAt: 2025-02-03 15:21:39 -0500 (Mon, 03 Feb 2025) EndedAt: 2025-02-03 15:21:47 -0500 (Mon, 03 Feb 2025) EllapsedTime: 8.0 seconds RetCode: 0 Status: OK