Package: BiocIO Version: 1.16.0 Command: chmod a+r BiocIO -R && F:\biocbuild\bbs-3.20-bioc\R\bin\R.exe CMD build --keep-empty-dirs --no-resave-data BiocIO StartedAt: 2025-01-30 17:33:30 -0500 (Thu, 30 Jan 2025) EndedAt: 2025-01-30 17:33:55 -0500 (Thu, 30 Jan 2025) EllapsedTime: 24.6 seconds RetCode: 0 Status: OK PackageFile: BiocIO_1.16.0.tar.gz PackageFileSize: 226.6 KiB