Package: BiocOncoTK Version: 1.26.0 Command: /Library/Frameworks/R.framework/Resources/bin/R CMD INSTALL BiocOncoTK StartedAt: 2025-02-03 18:06:12 -0500 (Mon, 03 Feb 2025) EndedAt: 2025-02-03 18:07:17 -0500 (Mon, 03 Feb 2025) EllapsedTime: 65.1 seconds RetCode: 0 Status: OK