Package: BiocOncoTK Version: 1.26.0 Command: chmod a+r BiocOncoTK -R && F:\biocbuild\bbs-3.20-bioc\R\bin\R.exe CMD build --keep-empty-dirs --no-resave-data BiocOncoTK StartedAt: 2025-01-30 17:33:44 -0500 (Thu, 30 Jan 2025) EndedAt: 2025-01-30 17:35:35 -0500 (Thu, 30 Jan 2025) EllapsedTime: 111.5 seconds RetCode: 1 Status: ERROR PackageFile: None PackageFileSize: NA