Package: BiocOncoTK Version: 1.26.0 Command: /home/biocbuild/R/R/bin/R CMD INSTALL BiocOncoTK StartedAt: 2025-01-30 21:04:13 -0000 (Thu, 30 Jan 2025) EndedAt: 2025-01-30 21:05:15 -0000 (Thu, 30 Jan 2025) EllapsedTime: 62.5 seconds RetCode: 0 Status: OK