Package: BiocParallel Version: 1.40.0 Command: /Library/Frameworks/R.framework/Resources/bin/R CMD INSTALL BiocParallel StartedAt: 2025-02-10 15:48:26 -0500 (Mon, 10 Feb 2025) EndedAt: 2025-02-10 15:48:46 -0500 (Mon, 10 Feb 2025) EllapsedTime: 19.5 seconds RetCode: 0 Status: OK