Package: BiocParallel Version: 1.40.0 Command: /home/biocbuild/bbs-3.20-bioc/R/bin/R CMD build --keep-empty-dirs --no-resave-data --md5 BiocParallel StartedAt: 2025-02-03 16:33:17 -0500 (Mon, 03 Feb 2025) EndedAt: 2025-02-03 16:35:12 -0500 (Mon, 03 Feb 2025) EllapsedTime: 115.1 seconds RetCode: 0 Status: OK PackageFile: BiocParallel_1.40.0.tar.gz PackageFileSize: 977.6 KiB