Package: BiocParallel Version: 1.40.0 Command: chmod a+r BiocParallel -R && F:\biocbuild\bbs-3.20-bioc\R\bin\R.exe CMD build --keep-empty-dirs --no-resave-data BiocParallel StartedAt: 2025-02-03 17:45:49 -0500 (Mon, 03 Feb 2025) EndedAt: 2025-02-03 17:50:18 -0500 (Mon, 03 Feb 2025) EllapsedTime: 269.0 seconds RetCode: 0 Status: OK PackageFile: BiocParallel_1.40.0.tar.gz PackageFileSize: 977 KiB