Package: BiocParallel Version: 1.40.0 Command: /home/biocbuild/R/R/bin/R CMD INSTALL BiocParallel StartedAt: 2025-02-03 20:35:10 -0000 (Mon, 03 Feb 2025) EndedAt: 2025-02-03 20:35:32 -0000 (Mon, 03 Feb 2025) EllapsedTime: 22.4 seconds RetCode: 0 Status: OK