Package: BiocPkgTools Version: 1.24.0 Command: /Library/Frameworks/R.framework/Resources/bin/R CMD build --keep-empty-dirs --no-resave-data BiocPkgTools StartedAt: 2025-02-03 19:30:45 -0500 (Mon, 03 Feb 2025) EndedAt: 2025-02-03 19:33:46 -0500 (Mon, 03 Feb 2025) EllapsedTime: 180.6 seconds RetCode: 0 Status: OK PackageFile: BiocPkgTools_1.24.0.tar.gz PackageFileSize: 1.442 MiB