Package: BiocPkgTools Version: 1.24.0 Command: rm -rf BiocPkgTools.buildbin-libdir && mkdir BiocPkgTools.buildbin-libdir && /Users/biocbuild/BBS/utils/build-universal.sh BiocPkgTools_1.24.0.tar.gz /Library/Frameworks/R.framework/Resources/bin/R BiocPkgTools.buildbin-libdir StartedAt: 2025-02-04 12:32:18 -0500 (Tue, 04 Feb 2025) EndedAt: 2025-02-04 12:32:44 -0500 (Tue, 04 Feb 2025) EllapsedTime: 26.2 seconds RetCode: 0 Status: OK PackageFile: BiocPkgTools_1.24.0.tgz PackageFileSize: 1.617 MiB