Package: BiocPkgTools Version: 1.24.0 Command: /home/biocbuild/R/R/bin/R CMD build --keep-empty-dirs --no-resave-data BiocPkgTools StartedAt: 2025-02-03 22:02:51 -0000 (Mon, 03 Feb 2025) EndedAt: 2025-02-03 22:33:43 -0000 (Mon, 03 Feb 2025) EllapsedTime: 1851.6 seconds RetCode: 1 Status: ERROR PackageFile: None PackageFileSize: NA