Package: BiocSet Version: 1.20.0 Command: /Library/Frameworks/R.framework/Resources/bin/R CMD build --keep-empty-dirs --no-resave-data BiocSet StartedAt: 2025-02-03 17:23:49 -0500 (Mon, 03 Feb 2025) EndedAt: 2025-02-03 17:32:37 -0500 (Mon, 03 Feb 2025) EllapsedTime: 528.0 seconds RetCode: 0 Status: OK PackageFile: BiocSet_1.20.0.tar.gz PackageFileSize: 359 KiB