Package: BiocSet Version: 1.20.0 Command: /Library/Frameworks/R.framework/Resources/bin/R CMD check --install=check:BiocSet.install-out.txt --library=/Library/Frameworks/R.framework/Resources/library --no-vignettes --timings BiocSet_1.20.0.tar.gz StartedAt: 2025-02-04 00:19:07 -0500 (Tue, 04 Feb 2025) EndedAt: 2025-02-04 00:30:49 -0500 (Tue, 04 Feb 2025) EllapsedTime: 702.0 seconds RetCode: 0 Status: OK CheckDir: BiocSet.Rcheck Warnings: 0