Package: BiocSet Version: 1.20.0 Command: /home/biocbuild/bbs-3.20-bioc/R/bin/R CMD build --keep-empty-dirs --no-resave-data --md5 BiocSet StartedAt: 2025-02-10 16:26:09 -0500 (Mon, 10 Feb 2025) EndedAt: 2025-02-10 16:30:11 -0500 (Mon, 10 Feb 2025) EllapsedTime: 242.2 seconds RetCode: 0 Status: OK PackageFile: BiocSet_1.20.0.tar.gz PackageFileSize: 362 KiB