Package: BiocSet Version: 1.20.0 Command: /home/biocbuild/bbs-3.20-bioc/R/bin/R CMD INSTALL BiocSet StartedAt: 2025-02-03 15:25:35 -0500 (Mon, 03 Feb 2025) EndedAt: 2025-02-03 15:25:49 -0500 (Mon, 03 Feb 2025) EllapsedTime: 14.5 seconds RetCode: 0 Status: OK