Package: BiocSet Version: 1.20.0 Command: /home/biocbuild/R/R/bin/R CMD build --keep-empty-dirs --no-resave-data BiocSet StartedAt: 2025-02-03 22:03:17 -0000 (Mon, 03 Feb 2025) EndedAt: 2025-02-03 22:07:55 -0000 (Mon, 03 Feb 2025) EllapsedTime: 278.1 seconds RetCode: 0 Status: OK PackageFile: BiocSet_1.20.0.tar.gz PackageFileSize: 427 KiB