Package: BiocSingular Version: 1.22.0 Command: rm -rf BiocSingular.buildbin-libdir && mkdir BiocSingular.buildbin-libdir && /Users/biocbuild/BBS/utils/build-universal.sh BiocSingular_1.22.0.tar.gz /Library/Frameworks/R.framework/Resources/bin/R BiocSingular.buildbin-libdir StartedAt: 2025-02-01 14:04:05 -0500 (Sat, 01 Feb 2025) EndedAt: 2025-02-01 14:04:38 -0500 (Sat, 01 Feb 2025) EllapsedTime: 33.2 seconds RetCode: 0 Status: OK PackageFile: BiocSingular_1.22.0.tgz PackageFileSize: 927.5 KiB