Package: BiocSingular Version: 1.22.0 Command: /Library/Frameworks/R.framework/Resources/bin/R CMD INSTALL BiocSingular StartedAt: 2025-02-10 16:25:25 -0500 (Mon, 10 Feb 2025) EndedAt: 2025-02-10 16:26:24 -0500 (Mon, 10 Feb 2025) EllapsedTime: 59.1 seconds RetCode: 0 Status: OK