Package: BiocSingular Version: 1.22.0 Command: rm -rf BiocSingular.buildbin-libdir && mkdir BiocSingular.buildbin-libdir && F:\biocbuild\bbs-3.20-bioc\R\bin\R.exe CMD INSTALL --build --library=BiocSingular.buildbin-libdir BiocSingular_1.22.0.tar.gz StartedAt: 2025-02-04 08:03:35 -0500 (Tue, 04 Feb 2025) EndedAt: 2025-02-04 08:04:40 -0500 (Tue, 04 Feb 2025) EllapsedTime: 64.7 seconds RetCode: 0 Status: OK PackageFile: BiocSingular_1.22.0.zip PackageFileSize: 1.217 MiB