Package: BiocSingular Version: 1.22.0 Command: chmod a+r BiocSingular -R && F:\biocbuild\bbs-3.20-bioc\R\bin\R.exe CMD build --keep-empty-dirs --no-resave-data BiocSingular StartedAt: 2025-02-03 17:46:15 -0500 (Mon, 03 Feb 2025) EndedAt: 2025-02-03 17:47:26 -0500 (Mon, 03 Feb 2025) EllapsedTime: 70.7 seconds RetCode: 0 Status: OK PackageFile: BiocSingular_1.22.0.tar.gz PackageFileSize: 602.5 KiB