Package: BiocSingular Version: 1.22.0 Command: F:\biocbuild\bbs-3.20-bioc\R\bin\R.exe CMD check --no-multiarch --install=check:BiocSingular.install-out.txt --library=F:\biocbuild\bbs-3.20-bioc\R\library --no-vignettes --timings BiocSingular_1.22.0.tar.gz StartedAt: 2025-02-10 23:29:17 -0500 (Mon, 10 Feb 2025) EndedAt: 2025-02-10 23:33:46 -0500 (Mon, 10 Feb 2025) EllapsedTime: 268.6 seconds RetCode: 0 Status: OK CheckDir: BiocSingular.Rcheck Warnings: 0